BEGIN:VCALENDAR
VERSION:2.0
PRODID:-//Old Treasury Building - ECPv6.15.20//NONSGML v1.0//EN
CALSCALE:GREGORIAN
METHOD:PUBLISH
X-ORIGINAL-URL:https://www.oldtreasurybuilding.org.au
X-WR-CALDESC:Events for Old Treasury Building
REFRESH-INTERVAL;VALUE=DURATION:PT1H
X-Robots-Tag:noindex
X-PUBLISHED-TTL:PT1H
BEGIN:VTIMEZONE
TZID:Australia/Melbourne
BEGIN:STANDARD
TZOFFSETFROM:+1100
TZOFFSETTO:+1000
TZNAME:AEST
DTSTART:20240406T160000
END:STANDARD
BEGIN:DAYLIGHT
TZOFFSETFROM:+1000
TZOFFSETTO:+1100
TZNAME:AEDT
DTSTART:20241005T160000
END:DAYLIGHT
BEGIN:STANDARD
TZOFFSETFROM:+1100
TZOFFSETTO:+1000
TZNAME:AEST
DTSTART:20250405T160000
END:STANDARD
BEGIN:DAYLIGHT
TZOFFSETFROM:+1000
TZOFFSETTO:+1100
TZNAME:AEDT
DTSTART:20251004T160000
END:DAYLIGHT
BEGIN:STANDARD
TZOFFSETFROM:+1100
TZOFFSETTO:+1000
TZNAME:AEST
DTSTART:20260404T160000
END:STANDARD
BEGIN:DAYLIGHT
TZOFFSETFROM:+1000
TZOFFSETTO:+1100
TZNAME:AEDT
DTSTART:20261003T160000
END:DAYLIGHT
END:VTIMEZONE
BEGIN:VEVENT
DTSTART;VALUE=DATE:20250722
DTEND;VALUE=DATE:20250723
DTSTAMP:20260420T015554
CREATED:20250623T045837Z
LAST-MODIFIED:20250623T045837Z
UID:10000184-1753142400-1753228799@www.oldtreasurybuilding.org.au
SUMMARY:World Fragile X Day
DESCRIPTION:World Fragile X Day is 22 July. This day is celebrated in many countries around the world including Australia.\nSince 2016 Fragile X Association of Australia has invited significant landmarks across Australia to illuminate “ORANGE” on this day\, orange being the signature colour for Fragile X in Australia. \nFragile X syndrome is a genetic condition which is the leading cause of inherited intellectual disability. Thousands of families (around 90\,000 Australians) are impacted by Fragile X in some way – as carriers of the gene mutation that causes Fragile X syndrome\, or living with Fragile X syndrome. Fragile X conditions remain\, unfortunately\, frequently under-recognised and often misdiagnosed. Late diagnosis delays the opportunity to put in place the appropriate treatments and care which will secure the best life outcomes for those affected. \nIn supporting Light Up for Fragile X\, regional and metropolitan communities are acknowledging the families and individuals who are living with Fragile X syndrome and actively raising public awareness of this disability. \n#WorldFragileXDay \nOld Treasury Building will be lit in orange for this event from sunrise to sunset.
URL:https://www.oldtreasurybuilding.org.au/event/world-fragile-x-day-2/
LOCATION:Old Treasury Building\, 20 Spring Street\, East Melbourne\, VIC\, 3002\, Australia
CATEGORIES:Lighting
ORGANIZER;CN="Old Treasury Building":MAILTO:bookings@otb.org.au
GEO:-37.8134372;144.9742711
X-APPLE-STRUCTURED-LOCATION;VALUE=URI;X-ADDRESS=Old Treasury Building 20 Spring Street East Melbourne VIC 3002 Australia;X-APPLE-RADIUS=500;X-TITLE=20 Spring Street:geo:144.9742711,-37.8134372
END:VEVENT
BEGIN:VEVENT
DTSTART;TZID=Australia/Melbourne:20250723T110000
DTEND;TZID=Australia/Melbourne:20250723T120000
DTSTAMP:20260420T015554
CREATED:20250620T003205Z
LAST-MODIFIED:20250620T003205Z
UID:10000183-1753268400-1753272000@www.oldtreasurybuilding.org.au
SUMMARY:In Conversation with Megan Herbert\, Political Cartoonist of the Year
DESCRIPTION:Join ‘Behind the Lines 2024’ curator Matthew Jones and Political Cartoonist of the Year Megan Herbert as they explore the exhibition and Megan’s work. \nMegan Herbert is a cartoonist\, illustrator\, and writer whose work appears in The Sydney Morning Herald and The Age. Her cartoons in ‘Behind the Lines’ reference climate change\, the cost of living\, the housing crisis and more in her signature style. \nPresented as part of the exhibition\, ‘Behind the Lines 2024: No Guts\, No Glory’ on display at the Old Treasury Building from 21 July to 28 August 2025. \n‘Behind the Lines’ is a travelling exhibition developed by the Museum of Australian Democracy at Old Parliament House\, proudly supported by the National Collecting Institutions Touring and Outreach program\, an Australian Government program aiming to improve access to the national collections for all Australians.
URL:https://www.oldtreasurybuilding.org.au/event/in-conversation-with-megan-herbert-political-cartoonist-of-the-year/
LOCATION:Online\, Australia
CATEGORIES:Free
ATTACH;FMTTYPE=image/jpeg:https://www.oldtreasurybuilding.org.au/wp-content/uploads/2025/04/Hero_BTL2024_Megan-Herbert_No-Guts-No-Glory_2024-sm.jpg
ORGANIZER;CN="Old Treasury Building":MAILTO:bookings@otb.org.au
GEO:-25.274398;133.775136
END:VEVENT
BEGIN:VEVENT
DTSTART;TZID=Australia/Melbourne:20250727T110000
DTEND;TZID=Australia/Melbourne:20250727T120000
DTSTAMP:20260420T015554
CREATED:20250701T003342Z
LAST-MODIFIED:20250701T003342Z
UID:10000185-1753614000-1753617600@www.oldtreasurybuilding.org.au
SUMMARY:Old Treasury Building: Public Tour (July 2025)
DESCRIPTION:The Old Treasury building is one of very few gold rush buildings still in use in the city. \nThis monthly tour will showcase the exhibitions\, including the beautiful building. See areas of the building inaccessible to the general public\, including the Executive Council Chamber. This historic room is where the Governor of Victoria has met for over 160 years to sign legislation into law. Find out more about Melbourne’s fascinating gold rush past!
URL:https://www.oldtreasurybuilding.org.au/event/old-treasury-building-public-tour-july-2025/
LOCATION:Old Treasury Building\, 20 Spring Street\, East Melbourne\, VIC\, 3002\, Australia
CATEGORIES:Tour
ATTACH;FMTTYPE=image/jpeg:https://www.oldtreasurybuilding.org.au/wp-content/uploads/2023/03/Gabrielle-cropped.jpg
ORGANIZER;CN="Old Treasury Building":MAILTO:bookings@otb.org.au
GEO:-37.8134372;144.9742711
X-APPLE-STRUCTURED-LOCATION;VALUE=URI;X-ADDRESS=Old Treasury Building 20 Spring Street East Melbourne VIC 3002 Australia;X-APPLE-RADIUS=500;X-TITLE=20 Spring Street:geo:144.9742711,-37.8134372
END:VEVENT
END:VCALENDAR