BEGIN:VCALENDAR
VERSION:2.0
PRODID:-//Old Treasury Building - ECPv6.15.20//NONSGML v1.0//EN
CALSCALE:GREGORIAN
METHOD:PUBLISH
X-WR-CALNAME:Old Treasury Building
X-ORIGINAL-URL:https://www.oldtreasurybuilding.org.au
X-WR-CALDESC:Events for Old Treasury Building
REFRESH-INTERVAL;VALUE=DURATION:PT1H
X-Robots-Tag:noindex
X-PUBLISHED-TTL:PT1H
BEGIN:VTIMEZONE
TZID:Australia/Melbourne
BEGIN:STANDARD
TZOFFSETFROM:+1100
TZOFFSETTO:+1000
TZNAME:AEST
DTSTART:20240406T160000
END:STANDARD
BEGIN:DAYLIGHT
TZOFFSETFROM:+1000
TZOFFSETTO:+1100
TZNAME:AEDT
DTSTART:20241005T160000
END:DAYLIGHT
BEGIN:STANDARD
TZOFFSETFROM:+1100
TZOFFSETTO:+1000
TZNAME:AEST
DTSTART:20250405T160000
END:STANDARD
BEGIN:DAYLIGHT
TZOFFSETFROM:+1000
TZOFFSETTO:+1100
TZNAME:AEDT
DTSTART:20251004T160000
END:DAYLIGHT
BEGIN:STANDARD
TZOFFSETFROM:+1100
TZOFFSETTO:+1000
TZNAME:AEST
DTSTART:20260404T160000
END:STANDARD
BEGIN:DAYLIGHT
TZOFFSETFROM:+1000
TZOFFSETTO:+1100
TZNAME:AEDT
DTSTART:20261003T160000
END:DAYLIGHT
END:VTIMEZONE
BEGIN:VEVENT
DTSTART;TZID=Australia/Melbourne:20250223T110000
DTEND;TZID=Australia/Melbourne:20250223T120000
DTSTAMP:20260422T183337
CREATED:20250102T010031Z
LAST-MODIFIED:20250102T010031Z
UID:10000155-1740308400-1740312000@www.oldtreasurybuilding.org.au
SUMMARY:Old Treasury Building: Public Tour (February 2025)
DESCRIPTION:The Old Treasury building is one of very few gold rush buildings still in use in the city. \nThis monthly tour will showcase the exhibitions\, including the beautiful building. See areas of the building inaccessible to the general public\, including the Executive Council Chamber. This historic room is where the Governor of Victoria has met for over 160 years to sign legislation into law. Find out more about Melbourne’s fascinating gold rush past! \nView original plans by Old Treasury Building architect John James Clark\, exclusively available on a tour!
URL:https://www.oldtreasurybuilding.org.au/event/old-treasury-building-public-tour-february-2025/
LOCATION:Old Treasury Building\, 20 Spring Street\, East Melbourne\, VIC\, 3002\, Australia
CATEGORIES:Tour
ATTACH;FMTTYPE=image/jpeg:https://www.oldtreasurybuilding.org.au/wp-content/uploads/2023/03/Gabrielle-cropped.jpg
ORGANIZER;CN="Old Treasury Building":MAILTO:bookings@otb.org.au
GEO:-37.8134372;144.9742711
X-APPLE-STRUCTURED-LOCATION;VALUE=URI;X-ADDRESS=Old Treasury Building 20 Spring Street East Melbourne VIC 3002 Australia;X-APPLE-RADIUS=500;X-TITLE=20 Spring Street:geo:144.9742711,-37.8134372
END:VEVENT
BEGIN:VEVENT
DTSTART;VALUE=DATE:20250228
DTEND;VALUE=DATE:20250301
DTSTAMP:20260422T183337
CREATED:20250224T221652Z
LAST-MODIFIED:20250224T221652Z
UID:10000166-1740700800-1740787199@www.oldtreasurybuilding.org.au
SUMMARY:Rare Disease Day
DESCRIPTION:Friday 28th February 2025 is Rare Disease Day\, a patient-led awareness day to raise awareness for the over 300 million people worldwide living with a rare disease. \nRare Disease Day began in 2008 with 18 countries. Today\, participation has grown significantly with events in over 100 countries in 2020. \nOld Treasury Building will be lit in green for this event from sunrise to sunset.
URL:https://www.oldtreasurybuilding.org.au/event/rare-disease-day/
LOCATION:Old Treasury Building\, 20 Spring Street\, East Melbourne\, VIC\, 3002\, Australia
CATEGORIES:Lighting
ORGANIZER;CN="Old Treasury Building":MAILTO:bookings@otb.org.au
GEO:-37.8134372;144.9742711
X-APPLE-STRUCTURED-LOCATION;VALUE=URI;X-ADDRESS=Old Treasury Building 20 Spring Street East Melbourne VIC 3002 Australia;X-APPLE-RADIUS=500;X-TITLE=20 Spring Street:geo:144.9742711,-37.8134372
END:VEVENT
BEGIN:VEVENT
DTSTART;TZID=Australia/Melbourne:20250228T130000
DTEND;TZID=Australia/Melbourne:20250228T140000
DTSTAMP:20260422T183337
CREATED:20241202T224408Z
LAST-MODIFIED:20250114T234024Z
UID:10000153-1740747600-1740751200@www.oldtreasurybuilding.org.au
SUMMARY:The Fashion Cycle: From Retail to Reuse
DESCRIPTION:The next installment in the seminar series from Deakin University\, Australian Catholic University and Old Treasury! ‘Material Histories’ presents new scholarship from a wide range of speakers\, all united by their passion for objects! \nFirst speaker:\nAll the Latest Novelties: Modernity\, Luxury and Consumer Desire in Australia’s Nineteenth-century Arcades with Nicole Davis \nNineteenth-century arcades were marketed as dreamworlds\, where the desire for exclusive or exotic commodities could be indulged. They were curated spaces that aimed to have a specific mix of businesses\, including shops\, that offered diverse experiences and products to the consumer. In Australia\, through advertising\, displays and merchandising\, arcade retailers particularly emphasised goods\, including jewellery\, clothing\, and accessories\, that had connotations of luxury\, modernity\, and cosmopolitanism. These often linked with international locations\, trends\, and fashions\, to demonstrate the Australian colonies as places of progress\, sophistication\, and civility – where fashionable items could be attained just as they might in Britain\, Europe\, or North America. This presentation will look at some of the ways that businessowners created consumer desire for their products\, from the humble to the extraordinary. \nNicole Davis is an urban historian\, working in the museum and heritage sector\, with a particular interest in retail and business histories. Her PhD thesis focused on the social\, economic\, and architectural history of Australia’s nineteenth-century arcades and their place in the contemporary world. Her latest co-authored book is The Story of Melbourne’s Lanes: Essential but Unplanned. \n  \nSecond speaker:\nAlterations as evidence of garment life cycles: wedding dress 1875/1943 \nA wedding dress in the Henty Costume Collection at the Kew Historical Society\, which was made for Alice Henty when she married John Hindson in Melbourne in 1875\, was radically redesigned in 1943 when it was worn by three of her granddaughters at their weddings during WWII. This presentation will discuss the dress and its alterations and how such a well-provenanced item can provide evidence of life cycles of a garment that was treasured and reused across generations. \nDr Laura Jocic is a curator and historian with particular expertise in fashion and textiles. She completed her PhD at the University of Melbourne investigating dress in Australian colonial society and is interested in the materialities of surviving items of dress to elucidate the complex histories of garments and dress practices. \n  \nMaterial Histories is presented by Old Treasury Building in partnership with Deakin University and Australian Catholic University. \n‘The Fashion Cycle: From Retail to Reuse’ is presented as part of the PayPal Melbourne Fashion Festival’s Independent Programme.
URL:https://www.oldtreasurybuilding.org.au/event/the-fashion-cycle-from-retail-to-reuse/
LOCATION:Online\, Australia
CATEGORIES:Free,Material Histories
ORGANIZER;CN="Old Treasury Building":MAILTO:bookings@otb.org.au
GEO:-25.274398;133.775136
END:VEVENT
END:VCALENDAR