BEGIN:VCALENDAR
VERSION:2.0
PRODID:-//Old Treasury Building - ECPv6.15.20//NONSGML v1.0//EN
CALSCALE:GREGORIAN
METHOD:PUBLISH
X-ORIGINAL-URL:https://www.oldtreasurybuilding.org.au
X-WR-CALDESC:Events for Old Treasury Building
REFRESH-INTERVAL;VALUE=DURATION:PT1H
X-Robots-Tag:noindex
X-PUBLISHED-TTL:PT1H
BEGIN:VTIMEZONE
TZID:Australia/Melbourne
BEGIN:STANDARD
TZOFFSETFROM:+1100
TZOFFSETTO:+1000
TZNAME:AEST
DTSTART:20230401T160000
END:STANDARD
BEGIN:DAYLIGHT
TZOFFSETFROM:+1000
TZOFFSETTO:+1100
TZNAME:AEDT
DTSTART:20230930T160000
END:DAYLIGHT
BEGIN:STANDARD
TZOFFSETFROM:+1100
TZOFFSETTO:+1000
TZNAME:AEST
DTSTART:20240406T160000
END:STANDARD
BEGIN:DAYLIGHT
TZOFFSETFROM:+1000
TZOFFSETTO:+1100
TZNAME:AEDT
DTSTART:20241005T160000
END:DAYLIGHT
BEGIN:STANDARD
TZOFFSETFROM:+1100
TZOFFSETTO:+1000
TZNAME:AEST
DTSTART:20250405T160000
END:STANDARD
BEGIN:DAYLIGHT
TZOFFSETFROM:+1000
TZOFFSETTO:+1100
TZNAME:AEDT
DTSTART:20251004T160000
END:DAYLIGHT
END:VTIMEZONE
BEGIN:VEVENT
DTSTART;VALUE=DATE:20241005
DTEND;VALUE=DATE:20241006
DTSTAMP:20260423T014601
CREATED:20240906T021412Z
LAST-MODIFIED:20250717T010307Z
UID:10000135-1728086400-1728172799@www.oldtreasurybuilding.org.au
SUMMARY:World Meningitis Day
DESCRIPTION:World Meningitis Day is an international day to raise awareness of Meningitis and supports the CoMO (Confederation of Meningitis Organizations) Global Road Map to defeat Meningitis by 2030.\nOld Treasury Building will be lit in purple for this event from sunrise to sunset.
URL:https://www.oldtreasurybuilding.org.au/event/world-meningitis-day/2024-10-05/
LOCATION:Old Treasury Building\, 20 Spring Street\, East Melbourne\, VIC\, 3002\, Australia
CATEGORIES:Lighting
ORGANIZER;CN="Old Treasury Building":MAILTO:bookings@otb.org.au
GEO:-37.8134372;144.9742711
X-APPLE-STRUCTURED-LOCATION;VALUE=URI;X-ADDRESS=Old Treasury Building 20 Spring Street East Melbourne VIC 3002 Australia;X-APPLE-RADIUS=500;X-TITLE=20 Spring Street:geo:144.9742711,-37.8134372
END:VEVENT
BEGIN:VEVENT
DTSTART;TZID=Australia/Melbourne:20241009T110000
DTEND;TZID=Australia/Melbourne:20241009T120000
DTSTAMP:20260423T014601
CREATED:20240828T023158Z
LAST-MODIFIED:20240828T023158Z
UID:10000134-1728471600-1728475200@www.oldtreasurybuilding.org.au
SUMMARY:‘Princess for a day’: the wedding dress in Victoria\, 1840-2024
DESCRIPTION:In elaborate white dresses\, with filmy veils\, happy brides smile at the world in countless photographs. But where did the many ‘traditions’ of the wedding day come from\, and did the bride always wear white? Join Margaret Anderson as she looks at the history of weddings and the wedding dress in Victoria\, with some surprising results. \nThis talk is presented as part of the Victorian Seniors Festival 2024.\nSee the full calendar of events here.
URL:https://www.oldtreasurybuilding.org.au/event/princess-for-a-day-the-wedding-dress-in-victoria-1840-2024/
LOCATION:Online\, Australia
CATEGORIES:Free
ORGANIZER;CN="Old Treasury Building":MAILTO:bookings@otb.org.au
GEO:-25.274398;133.775136
END:VEVENT
BEGIN:VEVENT
DTSTART;VALUE=DATE:20241020
DTEND;VALUE=DATE:20241021
DTSTAMP:20260423T014601
CREATED:20241007T212207Z
LAST-MODIFIED:20241007T212207Z
UID:10000144-1729382400-1729468799@www.oldtreasurybuilding.org.au
SUMMARY:Light it Red for Dyslexia
DESCRIPTION:Ask any dyslexic about their school experience and they will tell you about the gut wrenching fear of receiving back their school work covered in red crosses and comments. When Light it Red started in 2015\, it was about taking back the power of that colour to raise awareness. The colour influenced our name Code Read (pronounced RED) Dyslexia Network. Red is disruptive and cannot be ignored but it also highlights the urgency of the situation. In effect we wanted to say that it is time to stop sweeping this important issue under the carpet and take action. \nCode REaD Dyslexia Network’s annual  ‘Light it Red for Dyslexia’ campaign\, designed to Raise Dyslexia Awareness by lighting significant monuments\, buildings and landmarks RED during Dyslexia Awareness Month each October. \nOld Treasury Building will be lit in red for this event from sunrise to sunset.
URL:https://www.oldtreasurybuilding.org.au/event/light-it-red-for-dyslexia/
LOCATION:Old Treasury Building\, 20 Spring Street\, East Melbourne\, VIC\, 3002\, Australia
CATEGORIES:Lighting
ORGANIZER;CN="Old Treasury Building":MAILTO:bookings@otb.org.au
GEO:-37.8134372;144.9742711
X-APPLE-STRUCTURED-LOCATION;VALUE=URI;X-ADDRESS=Old Treasury Building 20 Spring Street East Melbourne VIC 3002 Australia;X-APPLE-RADIUS=500;X-TITLE=20 Spring Street:geo:144.9742711,-37.8134372
END:VEVENT
BEGIN:VEVENT
DTSTART;VALUE=DATE:20241021
DTEND;VALUE=DATE:20241023
DTSTAMP:20260423T014601
CREATED:20241009T230934Z
LAST-MODIFIED:20241017T234834Z
UID:10000148-1729468800-1729641599@www.oldtreasurybuilding.org.au
SUMMARY:International Mastocytosis and Mast Cell Diseases Day.
DESCRIPTION:Today is the seventh International Mastocytosis & Mast Cell Diseases Awareness Day. \nOld Treasury Building is proud to support The Australasian Mastocytosis Society (TAMS) as part of its annual #SpotOurSpots campaign. \nLandmarks and venues across Australia and Aotearoa New Zealand are lighting up tonight to raise awareness of Mast Cell Activation Disorders (MCADs)\, including mastocytosis and mast cell activation syndrome. MCADs are complex\, ranging from moderately disruptive to life-threatening\, and are often severely debilitating. \nThe #SpotOurSpots campaign aims to raise awareness of the need for more accurate diagnostics\, better treatments and further investments in research\, as well as to build hope for all patients living with MCADs.\nSee the full list of landmarks so you can #SpotOurSpots in your local community. \n#mastocytosis #MCAS #MastCellDisease #TogetherInAwarenessTogetherInHope \nOld Treasury Building will be lit in purple for this event from sunrise to sunset.
URL:https://www.oldtreasurybuilding.org.au/event/international-mastocytosis-and-mast-cell-diseases-day/
LOCATION:Old Treasury Building\, 20 Spring Street\, East Melbourne\, VIC\, 3002\, Australia
CATEGORIES:Lighting
ORGANIZER;CN="Old Treasury Building":MAILTO:bookings@otb.org.au
GEO:-37.8134372;144.9742711
X-APPLE-STRUCTURED-LOCATION;VALUE=URI;X-ADDRESS=Old Treasury Building 20 Spring Street East Melbourne VIC 3002 Australia;X-APPLE-RADIUS=500;X-TITLE=20 Spring Street:geo:144.9742711,-37.8134372
END:VEVENT
BEGIN:VEVENT
DTSTART;TZID=Australia/Melbourne:20241023T110000
DTEND;TZID=Australia/Melbourne:20241023T120000
DTSTAMP:20260423T014601
CREATED:20240930T014745Z
LAST-MODIFIED:20240930T014745Z
UID:10000142-1729681200-1729684800@www.oldtreasurybuilding.org.au
SUMMARY:Old clothes and new looks: Lessons from the past
DESCRIPTION:A black papier-mâché sewing box\, now on display in the Old Treasury Building’s ‘Belongings’ exhibition\, would once have been both commonplace in and essential for many homes. This box and others like it – filled with needles and threads\, thimbles and scissors\, ribbons and buttons – helped women to create new looks from old clothes. Conscious of the pressing need in the present for more circular and sustainable fashion\, dress historian Lorinda Cramer explores how sewing boxes were used\, what could be achieved with the tools and materials they held – and\, indeed\, what lessons are offered from the past. \n‘Old Clothes and New Looks: Lessons from the Past’ is presented as part of Melbourne Fashion Week.
URL:https://www.oldtreasurybuilding.org.au/event/old-clothes-and-new-looks-lessons-from-the-past/
LOCATION:Online\, Australia
CATEGORIES:Free
ORGANIZER;CN="Old Treasury Building":MAILTO:bookings@otb.org.au
GEO:-25.274398;133.775136
END:VEVENT
BEGIN:VEVENT
DTSTART;VALUE=DATE:20241026
DTEND;VALUE=DATE:20241102
DTSTAMP:20260423T014601
CREATED:20240827T234909Z
LAST-MODIFIED:20240827T234909Z
UID:10000133-1729900800-1730505599@www.oldtreasurybuilding.org.au
SUMMARY:Diwali
DESCRIPTION:To celebrate Diwali\, the building will be lit in the Indian Tricolours on 26th October and on 1st November 2024. \nOld Treasury Building will be lit in saffron\, white and green for this event from sunrise to sunset.
URL:https://www.oldtreasurybuilding.org.au/event/diwali/
LOCATION:Old Treasury Building\, 20 Spring Street\, East Melbourne\, VIC\, 3002\, Australia
CATEGORIES:Lighting
ORGANIZER;CN="Old Treasury Building":MAILTO:bookings@otb.org.au
GEO:-37.8134372;144.9742711
X-APPLE-STRUCTURED-LOCATION;VALUE=URI;X-ADDRESS=Old Treasury Building 20 Spring Street East Melbourne VIC 3002 Australia;X-APPLE-RADIUS=500;X-TITLE=20 Spring Street:geo:144.9742711,-37.8134372
END:VEVENT
BEGIN:VEVENT
DTSTART;TZID=Australia/Melbourne:20241027T110000
DTEND;TZID=Australia/Melbourne:20241027T120000
DTSTAMP:20260423T014601
CREATED:20240930T014419Z
LAST-MODIFIED:20240930T014419Z
UID:10000140-1730026800-1730030400@www.oldtreasurybuilding.org.au
SUMMARY:Old Treasury Building: Public Tour (October 2024)
DESCRIPTION:The Old Treasury building is one of very few gold rush buildings still in use in the city. \nThis monthly tour will showcase the exhibitions\, including the beautiful building. See areas of the building inaccessible to the general public\, including the Executive Council Chamber. This historic room is where the Governor of Victoria has met for over 160 years to sign legislation into law. Find out more about Melbourne’s fascinating gold rush past! \nView original plans by Old Treasury Building architect John James Clark\, exclusively available on a tour!
URL:https://www.oldtreasurybuilding.org.au/event/old-treasury-building-public-tour-october-2024/
LOCATION:Old Treasury Building\, 20 Spring Street\, East Melbourne\, VIC\, 3002\, Australia
CATEGORIES:Tour
ATTACH;FMTTYPE=image/jpeg:https://www.oldtreasurybuilding.org.au/wp-content/uploads/2023/03/Gabrielle-cropped.jpg
ORGANIZER;CN="Old Treasury Building":MAILTO:bookings@otb.org.au
GEO:-37.8134372;144.9742711
X-APPLE-STRUCTURED-LOCATION;VALUE=URI;X-ADDRESS=Old Treasury Building 20 Spring Street East Melbourne VIC 3002 Australia;X-APPLE-RADIUS=500;X-TITLE=20 Spring Street:geo:144.9742711,-37.8134372
END:VEVENT
END:VCALENDAR