BEGIN:VCALENDAR
VERSION:2.0
PRODID:-//Old Treasury Building - ECPv6.15.20//NONSGML v1.0//EN
CALSCALE:GREGORIAN
METHOD:PUBLISH
X-ORIGINAL-URL:https://www.oldtreasurybuilding.org.au
X-WR-CALDESC:Events for Old Treasury Building
REFRESH-INTERVAL;VALUE=DURATION:PT1H
X-Robots-Tag:noindex
X-PUBLISHED-TTL:PT1H
BEGIN:VTIMEZONE
TZID:Australia/Melbourne
BEGIN:STANDARD
TZOFFSETFROM:+1100
TZOFFSETTO:+1000
TZNAME:AEST
DTSTART:20230401T160000
END:STANDARD
BEGIN:DAYLIGHT
TZOFFSETFROM:+1000
TZOFFSETTO:+1100
TZNAME:AEDT
DTSTART:20230930T160000
END:DAYLIGHT
BEGIN:STANDARD
TZOFFSETFROM:+1100
TZOFFSETTO:+1000
TZNAME:AEST
DTSTART:20240406T160000
END:STANDARD
BEGIN:DAYLIGHT
TZOFFSETFROM:+1000
TZOFFSETTO:+1100
TZNAME:AEDT
DTSTART:20241005T160000
END:DAYLIGHT
BEGIN:STANDARD
TZOFFSETFROM:+1100
TZOFFSETTO:+1000
TZNAME:AEST
DTSTART:20250405T160000
END:STANDARD
BEGIN:DAYLIGHT
TZOFFSETFROM:+1000
TZOFFSETTO:+1100
TZNAME:AEDT
DTSTART:20251004T160000
END:DAYLIGHT
END:VTIMEZONE
BEGIN:VEVENT
DTSTART;VALUE=DATE:20240907
DTEND;VALUE=DATE:20240908
DTSTAMP:20260423T033231
CREATED:20240906T021907Z
LAST-MODIFIED:20240906T021907Z
UID:10000136-1725667200-1725753599@www.oldtreasurybuilding.org.au
SUMMARY:World Duchenne Day
DESCRIPTION:World Duchenne Day is on September 7th and the colour red represents DMD. \nOne in 5000 newborn boys in the world is affected by a rare and fatal disease: Duchenne Muscular Dystrophy (DMD). Seems like a small group\, but the 250.000 patients around the globe think big and have big dreams. Duchenne Parents have set up organizations in their countries\, and all of them work day by day to guarantee access to care\, to improve research\, to educate patients and families. \n\n\n\nThe WDAD 2024 theme is ‘Raise your voice for Duchenne’. With this year’s theme\, WDAD supports creating a society that provides equal opportunities for all. \n\n\n\nOld Treasury Building will be lit in red for this event from sunrise to sunset.
URL:https://www.oldtreasurybuilding.org.au/event/world-duchenne-day/
LOCATION:Old Treasury Building\, 20 Spring Street\, East Melbourne\, VIC\, 3002\, Australia
CATEGORIES:Lighting
ORGANIZER;CN="Old Treasury Building":MAILTO:bookings@otb.org.au
GEO:-37.8134372;144.9742711
X-APPLE-STRUCTURED-LOCATION;VALUE=URI;X-ADDRESS=Old Treasury Building 20 Spring Street East Melbourne VIC 3002 Australia;X-APPLE-RADIUS=500;X-TITLE=20 Spring Street:geo:144.9742711,-37.8134372
END:VEVENT
BEGIN:VEVENT
DTSTART;VALUE=DATE:20240909
DTEND;VALUE=DATE:20240910
DTSTAMP:20260423T033231
CREATED:20240906T022133Z
LAST-MODIFIED:20240906T022133Z
UID:10000138-1725840000-1725926399@www.oldtreasurybuilding.org.au
SUMMARY:International Fetal Alcohol Spectrum Disorder (FASD) Awareness Day
DESCRIPTION:The 9th day of the 9th month is globally acknowledged as International Fetal Alcohol Spectrum Disorder (FASD) Awareness Day\, and the whole of September is now known as FASD Awareness Month. \nFASD is the leading preventable developmental disability in Australia\, which occurs due to prenatal alcohol exposure. People with FASD can experience challenges such as physical and emotional developmental delay; impaired speech and language development; learning problems\, such as issues with memory and attention; and difficulty controlling behaviour. \nThe Red Shoes Rock campaign was started by RJ Formanek\, an adult living with FASD\, who decided to wear red shoes to stand out\, and start conversations about what is an invisible disability. \nOld Treasury Building will be lit in red for this event from sunrise to sunset.
URL:https://www.oldtreasurybuilding.org.au/event/international-fetal-alcohol-spectrum-disorder-fasd-awareness-day-2/
LOCATION:Old Treasury Building\, 20 Spring Street\, East Melbourne\, VIC\, 3002\, Australia
CATEGORIES:Lighting
ORGANIZER;CN="Old Treasury Building":MAILTO:bookings@otb.org.au
GEO:-37.8134372;144.9742711
X-APPLE-STRUCTURED-LOCATION;VALUE=URI;X-ADDRESS=Old Treasury Building 20 Spring Street East Melbourne VIC 3002 Australia;X-APPLE-RADIUS=500;X-TITLE=20 Spring Street:geo:144.9742711,-37.8134372
END:VEVENT
BEGIN:VEVENT
DTSTART;TZID=Australia/Melbourne:20240913T130000
DTEND;TZID=Australia/Melbourne:20240913T140000
DTSTAMP:20260423T033231
CREATED:20240611T045742Z
LAST-MODIFIED:20240716T233919Z
UID:10000127-1726232400-1726236000@www.oldtreasurybuilding.org.au
SUMMARY:Material Histories: Objects of Time
DESCRIPTION:The next installment in the seminar series from Deakin University\, Australian Catholic University and Old Treasury! ‘Material Histories’ presents new scholarship from a wide range of speakers\, all united by their passion for objects! \nFirst speaker:\nTurning Over Material Histories of the Sandglass\nwith Matthew Champion\nIn the early fourteenth century\, the sandglass made its debut as the most precise technology of time measurement in Europe to date. Almost immediately its impact was felt: cooks and courtiers\, rabbis and scientists\, accountants and artisans\, began to use sandglasses to time their activities\, their lives\, and to make their livings. Yet for an instrument of such importance\, the sandglass’s origins and its histories remain startlingly unclear. This paper sets out some first thoughts towards a material history of the sandglass and its importance to the history of temporalities. What can we learn from surviving objects and evidence of their use in multiple spaces\, genres\, and media? \nMatthew Champion is a Senior Lecturer in History at the University of Melbourne. He has published widely in the history of premodern temporalities and materiality\, including his 2017 Chicago monograph The Fullness of Time: Temporalities of the Fifteenth-Century Low Countries\, winner of the 2018 Gladstone Prize from the Royal Historical Society. His articles have appeared in Past & Present\, Speculum\, Sixteenth Century Journal and Transactions of the Royal Historical Society. He is a co-curator of the current exhibition Albrecht Dürer’s Material Renaissance (Arts West Gallery\, University of Melbourne). \nSecond speaker:\nPunctuality and Progress: Reflections on Clocks\, Time and History\nwith Graeme Davison\nProbably no invention has played a more significant part in the making of the modern world than the mechanical clock. I have long loved clocks and watches. I marvel at their intricate workmanship\, their delicate self-regulation and their humanoid qualities. From The Unforgiving Minute: How Australia Learned to tell the Time (1994) to My Grandfather’s Clock (2023) clocks and changing conceptions of measured time have shaped my vision of history as much as any human character. In this talk\, I will reflect on the histories of some clocks I have known either as museum objects\, such as the Powerhouse Museum’s Strasburg Clock\, or personal possessions\, such as my great-grandfather’s long case-clock. What can we learn from the clocks as material objects as distinct from the knowledge of their origins and provenance? Where does the mystique of the antiquarian end and the wisdom of the historian begin? \nGraeme Davison is Emeritus Sir John Monash Distinguished Professor of History at Monash University. He has written widely on Australian history\, heritage and public history where his publications include The Rise and Fall of Marvellous Melbourne\, The Use and Abuse of Australian History\, Car Wars: How the Car Won Our Hearts and Changed our Cities\, City Dreamers: The Urban Imagination in Australia and Lost Relations: Fortunes of My Family in Australia’s Golden Age. He is a former chair of the Heritage Council of Victoria\, an advisor to the National Museum of Australia and co-editor of a history of the Powerhouse Museum. \nMaterial Histories is presented by Old Treasury Building in partnership with Deakin University and Australian Catholic University.
URL:https://www.oldtreasurybuilding.org.au/event/material-histories-objects-of-time/
LOCATION:Online\, Australia
CATEGORIES:Free,Material Histories
ORGANIZER;CN="Old Treasury Building":MAILTO:bookings@otb.org.au
GEO:-25.274398;133.775136
END:VEVENT
BEGIN:VEVENT
DTSTART;TZID=Australia/Melbourne:20240926T170000
DTEND;TZID=Australia/Melbourne:20240926T183000
DTSTAMP:20260423T033231
CREATED:20240820T231631Z
LAST-MODIFIED:20240820T231631Z
UID:10000132-1727370000-1727375400@www.oldtreasurybuilding.org.au
SUMMARY:Making Public Histories: Oral History\, Migration\, Generations
DESCRIPTION:This panel brings together three esteemed speakers to share approaches to our theme of “Oral History\, Migration\, Generation”.\n\nAssociate Professor Francesco Ricatti is Associate Professor of Italian Studies at the Australian National University\, where he is also the Deputy Head of the School of Literature\, Languages and Linguistics. He is a former Deputy and Acting Director of the Monash Migration and Inclusion Centre\, and a former President of Oral History Victoria. His research focuses of migration history\, transcultural studies\, migrant/Indigenous relations\, and creative and participatory approaches to the study of multiethnic communities. He will speak on “Migrants’ oral histories: key challenges and innovative approaches”.\n\n\nDr Alexandra Dellios is a Senior Lecturer in the Centre for Heritage and Museum Studies at the Australian National University. Her latest book is Heritage Making and Migrant Subjects in the Deindustrialising Region of the Latrobe Valley (Cambridge University Press\, 2022). She will speak on “Oral histories about migrant welfare scandals: the challenges of multicultural frames of remembrance”. \n  \nProfessor Tanya Evans is a Professor of History at Macquarie University in Sydney Australia. She directs the Centre for Applied History and is President of the International Federation of Public History. Her research interests include family history\, memory and life-stories\, public history\, oral history\, cultural heritage\, history and sport\, community\, local and regional history\, histories of charities and NGOs\, history and the media and history in tourism. She will speak on “Sharing Memory and Identity Across Generations: An Interdisciplinary Memory Conversation and Oral History Project”. \n  \n\nThe seminar is part of an ongoing series\, Making Public Histories\, that is offered jointly by the Monash University History Program\, the History Council of Victoria and the Old Treasury Building. Each seminar aims to explore issues and approaches in making public histories. The seminars are open\, free of charge\, to anyone interested in the creation and impact of history in contemporary society. \nWe thank the series sponsors\, Monash University Publishing\, the Monash University History Program and the Old Treasury Building.
URL:https://www.oldtreasurybuilding.org.au/event/making-public-histories-oral-history-migration-generations/
LOCATION:Online\, Australia
CATEGORIES:Making Public Histories
ORGANIZER;CN="History Council Victoria":MAILTO:info@historycouncilvic.org.au
GEO:-25.274398;133.775136
END:VEVENT
BEGIN:VEVENT
DTSTART;TZID=Australia/Melbourne:20240929T110000
DTEND;TZID=Australia/Melbourne:20240929T120000
DTSTAMP:20260423T033231
CREATED:20240930T014338Z
LAST-MODIFIED:20240930T014338Z
UID:10000139-1727607600-1727611200@www.oldtreasurybuilding.org.au
SUMMARY:Old Treasury Building: Public Tour (September 2024)
DESCRIPTION:The Old Treasury building is one of very few gold rush buildings still in use in the city. \nThis monthly tour will showcase the exhibitions\, including the beautiful building. See areas of the building inaccessible to the general public\, including the Executive Council Chamber. This historic room is where the Governor of Victoria has met for over 160 years to sign legislation into law. Find out more about Melbourne’s fascinating gold rush past! \nNEW! View original plans by Old Treasury Building architect John James Clark\, exclusively available on a tour!
URL:https://www.oldtreasurybuilding.org.au/event/old-treasury-building-public-tour-september-2024/
LOCATION:Old Treasury Building\, 20 Spring Street\, East Melbourne\, VIC\, 3002\, Australia
CATEGORIES:Tour
ATTACH;FMTTYPE=image/jpeg:https://www.oldtreasurybuilding.org.au/wp-content/uploads/2023/03/Gabrielle-cropped.jpg
ORGANIZER;CN="Old Treasury Building":MAILTO:bookings@otb.org.au
GEO:-37.8134372;144.9742711
X-APPLE-STRUCTURED-LOCATION;VALUE=URI;X-ADDRESS=Old Treasury Building 20 Spring Street East Melbourne VIC 3002 Australia;X-APPLE-RADIUS=500;X-TITLE=20 Spring Street:geo:144.9742711,-37.8134372
END:VEVENT
END:VCALENDAR