BEGIN:VCALENDAR
VERSION:2.0
PRODID:-//Old Treasury Building - ECPv6.15.20//NONSGML v1.0//EN
CALSCALE:GREGORIAN
METHOD:PUBLISH
X-WR-CALNAME:Old Treasury Building
X-ORIGINAL-URL:https://www.oldtreasurybuilding.org.au
X-WR-CALDESC:Events for Old Treasury Building
REFRESH-INTERVAL;VALUE=DURATION:PT1H
X-Robots-Tag:noindex
X-PUBLISHED-TTL:PT1H
BEGIN:VTIMEZONE
TZID:Australia/Melbourne
BEGIN:STANDARD
TZOFFSETFROM:+1100
TZOFFSETTO:+1000
TZNAME:AEST
DTSTART:20230401T160000
END:STANDARD
BEGIN:DAYLIGHT
TZOFFSETFROM:+1000
TZOFFSETTO:+1100
TZNAME:AEDT
DTSTART:20230930T160000
END:DAYLIGHT
BEGIN:STANDARD
TZOFFSETFROM:+1100
TZOFFSETTO:+1000
TZNAME:AEST
DTSTART:20240406T160000
END:STANDARD
BEGIN:DAYLIGHT
TZOFFSETFROM:+1000
TZOFFSETTO:+1100
TZNAME:AEDT
DTSTART:20241005T160000
END:DAYLIGHT
BEGIN:STANDARD
TZOFFSETFROM:+1100
TZOFFSETTO:+1000
TZNAME:AEST
DTSTART:20250405T160000
END:STANDARD
BEGIN:DAYLIGHT
TZOFFSETFROM:+1000
TZOFFSETTO:+1100
TZNAME:AEDT
DTSTART:20251004T160000
END:DAYLIGHT
BEGIN:STANDARD
TZOFFSETFROM:+1100
TZOFFSETTO:+1000
TZNAME:AEST
DTSTART:20260404T160000
END:STANDARD
BEGIN:DAYLIGHT
TZOFFSETFROM:+1000
TZOFFSETTO:+1100
TZNAME:AEDT
DTSTART:20261003T160000
END:DAYLIGHT
END:VTIMEZONE
BEGIN:VEVENT
DTSTART;VALUE=DATE:20250228
DTEND;VALUE=DATE:20250301
DTSTAMP:20260422T065056
CREATED:20250224T221652Z
LAST-MODIFIED:20250224T221652Z
UID:10000166-1740700800-1740787199@www.oldtreasurybuilding.org.au
SUMMARY:Rare Disease Day
DESCRIPTION:Friday 28th February 2025 is Rare Disease Day\, a patient-led awareness day to raise awareness for the over 300 million people worldwide living with a rare disease. \nRare Disease Day began in 2008 with 18 countries. Today\, participation has grown significantly with events in over 100 countries in 2020. \nOld Treasury Building will be lit in green for this event from sunrise to sunset.
URL:https://www.oldtreasurybuilding.org.au/event/rare-disease-day/
LOCATION:Old Treasury Building\, 20 Spring Street\, East Melbourne\, VIC\, 3002\, Australia
CATEGORIES:Lighting
ORGANIZER;CN="Old Treasury Building":MAILTO:bookings@otb.org.au
GEO:-37.8134372;144.9742711
X-APPLE-STRUCTURED-LOCATION;VALUE=URI;X-ADDRESS=Old Treasury Building 20 Spring Street East Melbourne VIC 3002 Australia;X-APPLE-RADIUS=500;X-TITLE=20 Spring Street:geo:144.9742711,-37.8134372
END:VEVENT
BEGIN:VEVENT
DTSTART;VALUE=DATE:20241121
DTEND;VALUE=DATE:20241122
DTSTAMP:20260422T065056
CREATED:20241119T213147Z
LAST-MODIFIED:20241119T213147Z
UID:10000152-1732147200-1732233599@www.oldtreasurybuilding.org.au
SUMMARY:World Pancreatic Cancer Day
DESCRIPTION:Today we stand alongside the Australian Pancreatic Cancer Alliance and the World Pancreatic Alliance by turning purple for World Pancreatic Cancer Day along with 126 other landmarks in the country to raise awareness and pay tribute to those living with the disease and to honour those who have lost their lives to pancreatic cancer. \nIn 2024\, it is estimated that 3\,902 people will die from pancreatic cancer in Australia. Pancreatic cancer is the 3rd biggest cancer killer in Australia. \nPatients diagnosed early and in time for surgery are more likely to live five years and beyond. Early diagnosis is vital\, so say “Hello\, Pancreas” and don’t ignore the signs. \n#HelloPancreas #LightItPurple #WorldPancreaticCancerDay #WPCD \nOld Treasury Building will be lit in purple for this event from sunrise to sunset.
URL:https://www.oldtreasurybuilding.org.au/event/world-pancreatic-cancer-day/
LOCATION:Old Treasury Building\, 20 Spring Street\, East Melbourne\, VIC\, 3002\, Australia
CATEGORIES:Lighting
ORGANIZER;CN="Old Treasury Building":MAILTO:bookings@otb.org.au
GEO:-37.8134372;144.9742711
X-APPLE-STRUCTURED-LOCATION;VALUE=URI;X-ADDRESS=Old Treasury Building 20 Spring Street East Melbourne VIC 3002 Australia;X-APPLE-RADIUS=500;X-TITLE=20 Spring Street:geo:144.9742711,-37.8134372
END:VEVENT
BEGIN:VEVENT
DTSTART;VALUE=DATE:20241026
DTEND;VALUE=DATE:20241102
DTSTAMP:20260422T065056
CREATED:20240827T234909Z
LAST-MODIFIED:20240827T234909Z
UID:10000133-1729900800-1730505599@www.oldtreasurybuilding.org.au
SUMMARY:Diwali
DESCRIPTION:To celebrate Diwali\, the building will be lit in the Indian Tricolours on 26th October and on 1st November 2024. \nOld Treasury Building will be lit in saffron\, white and green for this event from sunrise to sunset.
URL:https://www.oldtreasurybuilding.org.au/event/diwali/
LOCATION:Old Treasury Building\, 20 Spring Street\, East Melbourne\, VIC\, 3002\, Australia
CATEGORIES:Lighting
ORGANIZER;CN="Old Treasury Building":MAILTO:bookings@otb.org.au
GEO:-37.8134372;144.9742711
X-APPLE-STRUCTURED-LOCATION;VALUE=URI;X-ADDRESS=Old Treasury Building 20 Spring Street East Melbourne VIC 3002 Australia;X-APPLE-RADIUS=500;X-TITLE=20 Spring Street:geo:144.9742711,-37.8134372
END:VEVENT
BEGIN:VEVENT
DTSTART;VALUE=DATE:20241021
DTEND;VALUE=DATE:20241023
DTSTAMP:20260422T065056
CREATED:20241009T230934Z
LAST-MODIFIED:20241017T234834Z
UID:10000148-1729468800-1729641599@www.oldtreasurybuilding.org.au
SUMMARY:International Mastocytosis and Mast Cell Diseases Day.
DESCRIPTION:Today is the seventh International Mastocytosis & Mast Cell Diseases Awareness Day. \nOld Treasury Building is proud to support The Australasian Mastocytosis Society (TAMS) as part of its annual #SpotOurSpots campaign. \nLandmarks and venues across Australia and Aotearoa New Zealand are lighting up tonight to raise awareness of Mast Cell Activation Disorders (MCADs)\, including mastocytosis and mast cell activation syndrome. MCADs are complex\, ranging from moderately disruptive to life-threatening\, and are often severely debilitating. \nThe #SpotOurSpots campaign aims to raise awareness of the need for more accurate diagnostics\, better treatments and further investments in research\, as well as to build hope for all patients living with MCADs.\nSee the full list of landmarks so you can #SpotOurSpots in your local community. \n#mastocytosis #MCAS #MastCellDisease #TogetherInAwarenessTogetherInHope \nOld Treasury Building will be lit in purple for this event from sunrise to sunset.
URL:https://www.oldtreasurybuilding.org.au/event/international-mastocytosis-and-mast-cell-diseases-day/
LOCATION:Old Treasury Building\, 20 Spring Street\, East Melbourne\, VIC\, 3002\, Australia
CATEGORIES:Lighting
ORGANIZER;CN="Old Treasury Building":MAILTO:bookings@otb.org.au
GEO:-37.8134372;144.9742711
X-APPLE-STRUCTURED-LOCATION;VALUE=URI;X-ADDRESS=Old Treasury Building 20 Spring Street East Melbourne VIC 3002 Australia;X-APPLE-RADIUS=500;X-TITLE=20 Spring Street:geo:144.9742711,-37.8134372
END:VEVENT
BEGIN:VEVENT
DTSTART;VALUE=DATE:20241020
DTEND;VALUE=DATE:20241021
DTSTAMP:20260422T065056
CREATED:20241007T212207Z
LAST-MODIFIED:20241007T212207Z
UID:10000144-1729382400-1729468799@www.oldtreasurybuilding.org.au
SUMMARY:Light it Red for Dyslexia
DESCRIPTION:Ask any dyslexic about their school experience and they will tell you about the gut wrenching fear of receiving back their school work covered in red crosses and comments. When Light it Red started in 2015\, it was about taking back the power of that colour to raise awareness. The colour influenced our name Code Read (pronounced RED) Dyslexia Network. Red is disruptive and cannot be ignored but it also highlights the urgency of the situation. In effect we wanted to say that it is time to stop sweeping this important issue under the carpet and take action. \nCode REaD Dyslexia Network’s annual  ‘Light it Red for Dyslexia’ campaign\, designed to Raise Dyslexia Awareness by lighting significant monuments\, buildings and landmarks RED during Dyslexia Awareness Month each October. \nOld Treasury Building will be lit in red for this event from sunrise to sunset.
URL:https://www.oldtreasurybuilding.org.au/event/light-it-red-for-dyslexia/
LOCATION:Old Treasury Building\, 20 Spring Street\, East Melbourne\, VIC\, 3002\, Australia
CATEGORIES:Lighting
ORGANIZER;CN="Old Treasury Building":MAILTO:bookings@otb.org.au
GEO:-37.8134372;144.9742711
X-APPLE-STRUCTURED-LOCATION;VALUE=URI;X-ADDRESS=Old Treasury Building 20 Spring Street East Melbourne VIC 3002 Australia;X-APPLE-RADIUS=500;X-TITLE=20 Spring Street:geo:144.9742711,-37.8134372
END:VEVENT
BEGIN:VEVENT
DTSTART;VALUE=DATE:20240909
DTEND;VALUE=DATE:20240910
DTSTAMP:20260422T065056
CREATED:20240906T022133Z
LAST-MODIFIED:20240906T022133Z
UID:10000138-1725840000-1725926399@www.oldtreasurybuilding.org.au
SUMMARY:International Fetal Alcohol Spectrum Disorder (FASD) Awareness Day
DESCRIPTION:The 9th day of the 9th month is globally acknowledged as International Fetal Alcohol Spectrum Disorder (FASD) Awareness Day\, and the whole of September is now known as FASD Awareness Month. \nFASD is the leading preventable developmental disability in Australia\, which occurs due to prenatal alcohol exposure. People with FASD can experience challenges such as physical and emotional developmental delay; impaired speech and language development; learning problems\, such as issues with memory and attention; and difficulty controlling behaviour. \nThe Red Shoes Rock campaign was started by RJ Formanek\, an adult living with FASD\, who decided to wear red shoes to stand out\, and start conversations about what is an invisible disability. \nOld Treasury Building will be lit in red for this event from sunrise to sunset.
URL:https://www.oldtreasurybuilding.org.au/event/international-fetal-alcohol-spectrum-disorder-fasd-awareness-day-2/
LOCATION:Old Treasury Building\, 20 Spring Street\, East Melbourne\, VIC\, 3002\, Australia
CATEGORIES:Lighting
ORGANIZER;CN="Old Treasury Building":MAILTO:bookings@otb.org.au
GEO:-37.8134372;144.9742711
X-APPLE-STRUCTURED-LOCATION;VALUE=URI;X-ADDRESS=Old Treasury Building 20 Spring Street East Melbourne VIC 3002 Australia;X-APPLE-RADIUS=500;X-TITLE=20 Spring Street:geo:144.9742711,-37.8134372
END:VEVENT
BEGIN:VEVENT
DTSTART;VALUE=DATE:20240907
DTEND;VALUE=DATE:20240908
DTSTAMP:20260422T065056
CREATED:20240906T021907Z
LAST-MODIFIED:20240906T021907Z
UID:10000136-1725667200-1725753599@www.oldtreasurybuilding.org.au
SUMMARY:World Duchenne Day
DESCRIPTION:World Duchenne Day is on September 7th and the colour red represents DMD. \nOne in 5000 newborn boys in the world is affected by a rare and fatal disease: Duchenne Muscular Dystrophy (DMD). Seems like a small group\, but the 250.000 patients around the globe think big and have big dreams. Duchenne Parents have set up organizations in their countries\, and all of them work day by day to guarantee access to care\, to improve research\, to educate patients and families. \n\n\n\nThe WDAD 2024 theme is ‘Raise your voice for Duchenne’. With this year’s theme\, WDAD supports creating a society that provides equal opportunities for all. \n\n\n\nOld Treasury Building will be lit in red for this event from sunrise to sunset.
URL:https://www.oldtreasurybuilding.org.au/event/world-duchenne-day/
LOCATION:Old Treasury Building\, 20 Spring Street\, East Melbourne\, VIC\, 3002\, Australia
CATEGORIES:Lighting
ORGANIZER;CN="Old Treasury Building":MAILTO:bookings@otb.org.au
GEO:-37.8134372;144.9742711
X-APPLE-STRUCTURED-LOCATION;VALUE=URI;X-ADDRESS=Old Treasury Building 20 Spring Street East Melbourne VIC 3002 Australia;X-APPLE-RADIUS=500;X-TITLE=20 Spring Street:geo:144.9742711,-37.8134372
END:VEVENT
BEGIN:VEVENT
DTSTART;VALUE=DATE:20240830
DTEND;VALUE=DATE:20240831
DTSTAMP:20260422T065056
CREATED:20240514T041205Z
LAST-MODIFIED:20240514T041226Z
UID:10000125-1724976000-1725062399@www.oldtreasurybuilding.org.au
SUMMARY:Wear it Purple Day
DESCRIPTION:Wear it Purple Day (WIPD) was founded in 2010 in a global response to many rainbow youth taking their lives after being bullied and harassed as a result of a lack of acceptance of their sexuality or gender identification. To be held on Fri 30TH Aug\, 2024.\nWIPD\, is a day to show support\, awareness\, and inclusiveness to our young rainbow youth. Is an opportunity to show that we value our ‘Rainbow Youth’ and their mental health matters.\nShowing a visual sign of support and understanding\, by wearing purple. \nOld Treasury Building will be lit in purple for this event from sunrise to sunset.
URL:https://www.oldtreasurybuilding.org.au/event/wear-it-purple-day-2/
LOCATION:Old Treasury Building\, 20 Spring Street\, East Melbourne\, VIC\, 3002\, Australia
CATEGORIES:Lighting
ORGANIZER;CN="Old Treasury Building":MAILTO:bookings@otb.org.au
GEO:-37.8134372;144.9742711
X-APPLE-STRUCTURED-LOCATION;VALUE=URI;X-ADDRESS=Old Treasury Building 20 Spring Street East Melbourne VIC 3002 Australia;X-APPLE-RADIUS=500;X-TITLE=20 Spring Street:geo:144.9742711,-37.8134372
END:VEVENT
BEGIN:VEVENT
DTSTART;VALUE=DATE:20240802
DTEND;VALUE=DATE:20240805
DTSTAMP:20260422T065056
CREATED:20240729T041042Z
LAST-MODIFIED:20240729T041042Z
UID:10000129-1722556800-1722815999@www.oldtreasurybuilding.org.au
SUMMARY:Green & Gold Day
DESCRIPTION:To acknowledge Green & Gold Day and show support of the Australian Olympic Team\, buildings in Melbourne be lit in green and gold (yellow) on Friday 2 August 2024. \n‘Green & Gold Day’ is for everyone. The athletes\, the fans\, the businesses\, the schools\, the young\, the old and everything in between. It doesn’t matter who you are\, your sporting ability or your background\, we believe sport has the power to unite us all.\nThis day is about painting the country in our national colours and being proud of Australia’s sporting achievements\, it’s about all Australians coming together and celebrating the green and gold. \nOld Treasury Building will be lit in green and yellow for this event from sunrise to sunset.
URL:https://www.oldtreasurybuilding.org.au/event/green-gold-day/
LOCATION:Old Treasury Building\, 20 Spring Street\, East Melbourne\, VIC\, 3002\, Australia
CATEGORIES:Lighting
ORGANIZER;CN="Old Treasury Building":MAILTO:bookings@otb.org.au
GEO:-37.8134372;144.9742711
X-APPLE-STRUCTURED-LOCATION;VALUE=URI;X-ADDRESS=Old Treasury Building 20 Spring Street East Melbourne VIC 3002 Australia;X-APPLE-RADIUS=500;X-TITLE=20 Spring Street:geo:144.9742711,-37.8134372
END:VEVENT
BEGIN:VEVENT
DTSTART;VALUE=DATE:20240722
DTEND;VALUE=DATE:20240723
DTSTAMP:20260422T065056
CREATED:20240716T235330Z
LAST-MODIFIED:20240716T235628Z
UID:10000128-1721606400-1721692799@www.oldtreasurybuilding.org.au
SUMMARY:World Fragile X Day
DESCRIPTION:World Fragile X Day is 22 July. This day is celebrated in many countries around the world including Australia.\nSince 2016 Fragile X Association of Australia has invited significant landmarks across Australia to illuminate “ORANGE” on this day\, orange being the signature colour for Fragile X in Australia. \nFragile X syndrome is a genetic condition which is the leading cause of inherited intellectual disability. Thousands of families (around 90\,000 Australians) are impacted by Fragile X in some way – as carriers of the gene mutation that causes Fragile X syndrome\, or living with Fragile X syndrome. Fragile X conditions remain\, unfortunately\, frequently under-recognised and often misdiagnosed. Late diagnosis delays the opportunity to put in place the appropriate treatments and care which will secure the best life outcomes for those affected. \nIn supporting Light Up for Fragile X\, regional and metropolitan communities are acknowledging the families and individuals who are living with Fragile X syndrome and actively raising public awareness of this disability. \n#WorldFragileXDay \nOld Treasury Building will be lit in orange for this event from sunrise to sunset.
URL:https://www.oldtreasurybuilding.org.au/event/world-fragile-x-day/
LOCATION:Old Treasury Building\, 20 Spring Street\, East Melbourne\, VIC\, 3002\, Australia
CATEGORIES:Lighting
ORGANIZER;CN="Old Treasury Building":MAILTO:bookings@otb.org.au
GEO:-37.8134372;144.9742711
X-APPLE-STRUCTURED-LOCATION;VALUE=URI;X-ADDRESS=Old Treasury Building 20 Spring Street East Melbourne VIC 3002 Australia;X-APPLE-RADIUS=500;X-TITLE=20 Spring Street:geo:144.9742711,-37.8134372
END:VEVENT
BEGIN:VEVENT
DTSTART;VALUE=DATE:20240528
DTEND;VALUE=DATE:20240529
DTSTAMP:20260422T065056
CREATED:20250527T233054Z
LAST-MODIFIED:20250527T233153Z
UID:10000180-1716854400-1716940799@www.oldtreasurybuilding.org.au
SUMMARY:National LGBTQ Domestic Violence Awareness Day
DESCRIPTION:Creation of the LGBTQ Domestic Violence Awareness Day in 2020\, was the first time in history that an awareness day was formed to highlight domestic\, family and intimate partner violence and abuse occurring in LGBTQ+ communities. Held annually on May 28\, LGBTQ Domestic Violence Awareness Day’s focus is in helping end violence and abuse within LGBTQ communities by increasing visibility and understanding\, and giving hope and courage to victims and survivors. \nOld Treasury Building will be lit in rainbow for this event from sunrise to sunset.
URL:https://www.oldtreasurybuilding.org.au/event/national-lgbtq-domestic-violence-awareness-day/
LOCATION:Old Treasury Building\, 20 Spring Street\, East Melbourne\, VIC\, 3002\, Australia
CATEGORIES:Lighting
ORGANIZER;CN="Old Treasury Building":MAILTO:bookings@otb.org.au
GEO:-37.8134372;144.9742711
X-APPLE-STRUCTURED-LOCATION;VALUE=URI;X-ADDRESS=Old Treasury Building 20 Spring Street East Melbourne VIC 3002 Australia;X-APPLE-RADIUS=500;X-TITLE=20 Spring Street:geo:144.9742711,-37.8134372
END:VEVENT
BEGIN:VEVENT
DTSTART;VALUE=DATE:20240528
DTEND;VALUE=DATE:20240529
DTSTAMP:20260422T065056
CREATED:20240514T040527Z
LAST-MODIFIED:20240514T040527Z
UID:10000124-1716854400-1716940799@www.oldtreasurybuilding.org.au
SUMMARY:National LGBTIQ+ Domestic Violence Awareness Day
DESCRIPTION:Creation of the LGBTQ Domestic Violence Awareness Day in 2020\, was the first time in history that an awareness day was formed to highlight domestic\, family and intimate partner violence and abuse occurring in LGBTQ+ communities. Held annually on May 28\, LGBTQ Domestic Violence Awareness Day’s focus is in helping end violence and abuse within LGBTQ communities by increasing visibility and understanding\, and giving hope and courage to victims and survivors. \nOld Treasury Building will be lit in rainbow for this event from sunrise to sunset.
URL:https://www.oldtreasurybuilding.org.au/event/national-lgbtiq-domestic-violence-awareness-day-2/
LOCATION:Old Treasury Building\, 20 Spring Street\, East Melbourne\, VIC\, 3002\, Australia
CATEGORIES:Lighting
ORGANIZER;CN="Old Treasury Building":MAILTO:bookings@otb.org.au
GEO:-37.8134372;144.9742711
X-APPLE-STRUCTURED-LOCATION;VALUE=URI;X-ADDRESS=Old Treasury Building 20 Spring Street East Melbourne VIC 3002 Australia;X-APPLE-RADIUS=500;X-TITLE=20 Spring Street:geo:144.9742711,-37.8134372
END:VEVENT
BEGIN:VEVENT
DTSTART;VALUE=DATE:20240522
DTEND;VALUE=DATE:20240523
DTSTAMP:20260422T065056
CREATED:20240503T010148Z
LAST-MODIFIED:20240503T010348Z
UID:10000121-1716336000-1716422399@www.oldtreasurybuilding.org.au
SUMMARY:Huntington's Victoria's May Awareness Campaign
DESCRIPTION:Raising awareness for Huntington’s Disease. \nWe are joining hands with Huntington’s Victoria and other Melbourne landmarks to light up blue on May 22nd to raise awareness and support those living with Huntington’s disease. \nHuntington’s disease is a progressive neurodegenerative condition characterised by the dysfunction and eventual death of brain cells\, resulting in physical\, cognitive\, and psychological impacts. It is caused by an inherited mutation in the huntingtin gene\, with each child of an affected parent having a 50/50 chance of inheriting this mutated gene. While there is currently no cure\, medications and maintaining brain and gut health can help manage symptoms. Huntington’s Victoria is dedicated to supporting each and every person affected by Huntington’s disease. \n#LightItUp4HD \nOld Treasury Building will be lit in blue and purple for this event from sunrise to sunset.
URL:https://www.oldtreasurybuilding.org.au/event/huntingtons-victorias-may-awareness-campaign/
LOCATION:Old Treasury Building\, 20 Spring Street\, East Melbourne\, VIC\, 3002\, Australia
CATEGORIES:Lighting
ORGANIZER;CN="Old Treasury Building":MAILTO:bookings@otb.org.au
GEO:-37.8134372;144.9742711
X-APPLE-STRUCTURED-LOCATION;VALUE=URI;X-ADDRESS=Old Treasury Building 20 Spring Street East Melbourne VIC 3002 Australia;X-APPLE-RADIUS=500;X-TITLE=20 Spring Street:geo:144.9742711,-37.8134372
END:VEVENT
BEGIN:VEVENT
DTSTART;VALUE=DATE:20240517
DTEND;VALUE=DATE:20240518
DTSTAMP:20260422T065056
CREATED:20240514T040244Z
LAST-MODIFIED:20240514T040244Z
UID:10000123-1715904000-1715990399@www.oldtreasurybuilding.org.au
SUMMARY:IDAHOBIT Day
DESCRIPTION:International Day Against Homophobia\, Biphobia\, and Transphobia (IDAHOBIT) Day is recognised internationally on May 17 each year. \nFounded in 2004\, this day aims to raise awareness of violence and discrimination against lesbian\, gay\, bi\, trans and queer (LGBTIQ+) people and to drive positive change to build LGBTIQ+ inclusion. \nOld Treasury Building will be lit in rainbow for this event from sunrise to sunset.
URL:https://www.oldtreasurybuilding.org.au/event/idahobit-day-2/
LOCATION:Old Treasury Building\, 20 Spring Street\, East Melbourne\, VIC\, 3002\, Australia
CATEGORIES:Lighting
ORGANIZER;CN="Old Treasury Building":MAILTO:bookings@otb.org.au
GEO:-37.8134372;144.9742711
X-APPLE-STRUCTURED-LOCATION;VALUE=URI;X-ADDRESS=Old Treasury Building 20 Spring Street East Melbourne VIC 3002 Australia;X-APPLE-RADIUS=500;X-TITLE=20 Spring Street:geo:144.9742711,-37.8134372
END:VEVENT
BEGIN:VEVENT
DTSTART;VALUE=DATE:20240514
DTEND;VALUE=DATE:20240515
DTSTAMP:20260422T065056
CREATED:20240506T223826Z
LAST-MODIFIED:20240506T223826Z
UID:10000122-1715644800-1715731199@www.oldtreasurybuilding.org.au
SUMMARY:Apraxia Awareness Day
DESCRIPTION:Today we are lighting up BLUE for Apraxia Awareness Day (May 14th). Apraxia can affect children from birth (childhood apraxia of speech) or can be acquired in childhood/adulthood due to a brain injury/stroke/degenerative condition. \nChildhood Apraxia of Speech is a lifelong motor speech disorder that affects 1-2 in 1000 children. Communication is a basic human right and everyone deserves a voice! \n#goblue4apraxia #apraxiaawarenessday2024 #keystocommunicatesp #aleias_aim \nOld Treasury Building will be lit in blue for this event from sunrise to sunset.
URL:https://www.oldtreasurybuilding.org.au/event/apraxia-awareness-day/
LOCATION:Old Treasury Building\, 20 Spring Street\, East Melbourne\, VIC\, 3002\, Australia
CATEGORIES:Lighting
ORGANIZER;CN="Old Treasury Building":MAILTO:bookings@otb.org.au
GEO:-37.8134372;144.9742711
X-APPLE-STRUCTURED-LOCATION;VALUE=URI;X-ADDRESS=Old Treasury Building 20 Spring Street East Melbourne VIC 3002 Australia;X-APPLE-RADIUS=500;X-TITLE=20 Spring Street:geo:144.9742711,-37.8134372
END:VEVENT
BEGIN:VEVENT
DTSTART;VALUE=DATE:20240501
DTEND;VALUE=DATE:20240502
DTSTAMP:20260422T065056
CREATED:20240414T223236Z
LAST-MODIFIED:20240414T223236Z
UID:10000119-1714521600-1714607999@www.oldtreasurybuilding.org.au
SUMMARY:Safe Steps 2024 Candlelight Vigil
DESCRIPTION:On Wednesday 1 May 2023\, people across Australia will light a candle to remember those who have been killed by domestic and family violence. By joining this evening of reflection and remembrance\, we honour their memories and help bring light to this national crisis. To learn more about the event and RSVP go to the link below. \n#LightACandle2024\, #Vigil2024\, #WeRememberYou\, #NeverForgotten\, #endDV \nOld Treasury Building will be lit in purple for this event from sunrise to sunset.
URL:https://www.oldtreasurybuilding.org.au/event/safe-steps-2024-candlelight-vigil/
LOCATION:Old Treasury Building\, 20 Spring Street\, East Melbourne\, VIC\, 3002\, Australia
CATEGORIES:Lighting
ORGANIZER;CN="Old Treasury Building":MAILTO:bookings@otb.org.au
GEO:-37.8134372;144.9742711
X-APPLE-STRUCTURED-LOCATION;VALUE=URI;X-ADDRESS=Old Treasury Building 20 Spring Street East Melbourne VIC 3002 Australia;X-APPLE-RADIUS=500;X-TITLE=20 Spring Street:geo:144.9742711,-37.8134372
END:VEVENT
END:VCALENDAR