BEGIN:VCALENDAR
VERSION:2.0
PRODID:-//Old Treasury Building - ECPv6.15.20//NONSGML v1.0//EN
CALSCALE:GREGORIAN
METHOD:PUBLISH
X-ORIGINAL-URL:https://www.oldtreasurybuilding.org.au
X-WR-CALDESC:Events for Old Treasury Building
REFRESH-INTERVAL;VALUE=DURATION:PT1H
X-Robots-Tag:noindex
X-PUBLISHED-TTL:PT1H
BEGIN:VTIMEZONE
TZID:Australia/Melbourne
BEGIN:STANDARD
TZOFFSETFROM:+1100
TZOFFSETTO:+1000
TZNAME:AEST
DTSTART:20250405T160000
END:STANDARD
BEGIN:DAYLIGHT
TZOFFSETFROM:+1000
TZOFFSETTO:+1100
TZNAME:AEDT
DTSTART:20251004T160000
END:DAYLIGHT
BEGIN:STANDARD
TZOFFSETFROM:+1100
TZOFFSETTO:+1000
TZNAME:AEST
DTSTART:20260404T160000
END:STANDARD
BEGIN:DAYLIGHT
TZOFFSETFROM:+1000
TZOFFSETTO:+1100
TZNAME:AEDT
DTSTART:20261003T160000
END:DAYLIGHT
BEGIN:STANDARD
TZOFFSETFROM:+1100
TZOFFSETTO:+1000
TZNAME:AEST
DTSTART:20270403T160000
END:STANDARD
BEGIN:DAYLIGHT
TZOFFSETFROM:+1000
TZOFFSETTO:+1100
TZNAME:AEDT
DTSTART:20271002T160000
END:DAYLIGHT
END:VTIMEZONE
BEGIN:VEVENT
DTSTART;VALUE=DATE:20260506
DTEND;VALUE=DATE:20260507
DTSTAMP:20260422T052549
CREATED:20260311T014619Z
LAST-MODIFIED:20260311T020209Z
UID:10000231-1778025600-1778111999@www.oldtreasurybuilding.org.au
SUMMARY:Safe Steps 2026 Candlelight Vigil
DESCRIPTION:Every year on National Family Violence Remembrance Day\, Safe Steps brings the community\, sector leaders and key stakeholders together to honour and remember loved ones and provide a space to share stories of resilience\, ignite hope and motivate change. \nNational Family Violence Remembrance Day is the first Wednesday of May each year\, as part of Domestic Violence Prevention Month. \nThis year\, the Safe Steps Candlelight Vigil will take place on Wednesday 6 May 2026. \nLed by courageous survivors and passionate advocates\, the Safe Steps Candlelight Vigil unites Victoria in a powerful tribute and empowers anyone experiencing violence to reach out for support when they can\, helping to interrupt intergenerational trauma and prevent further loss of\nlife. \nOld Treasury Building will be lit in purple for this event from sunrise to sunset.
URL:https://www.oldtreasurybuilding.org.au/event/safe-steps-2026-candlelight-vigil/
LOCATION:Old Treasury Building\, 20 Spring Street\, East Melbourne\, VIC\, 3002\, Australia
CATEGORIES:Lighting
GEO:-37.8134372;144.9742711
X-APPLE-STRUCTURED-LOCATION;VALUE=URI;X-ADDRESS=Old Treasury Building 20 Spring Street East Melbourne VIC 3002 Australia;X-APPLE-RADIUS=500;X-TITLE=20 Spring Street:geo:144.9742711,-37.8134372
END:VEVENT
END:VCALENDAR