BEGIN:VCALENDAR
VERSION:2.0
PRODID:-//Old Treasury Building - ECPv6.15.20//NONSGML v1.0//EN
CALSCALE:GREGORIAN
METHOD:PUBLISH
X-ORIGINAL-URL:https://www.oldtreasurybuilding.org.au
X-WR-CALDESC:Events for Old Treasury Building
REFRESH-INTERVAL;VALUE=DURATION:PT1H
X-Robots-Tag:noindex
X-PUBLISHED-TTL:PT1H
BEGIN:VTIMEZONE
TZID:Australia/Melbourne
BEGIN:STANDARD
TZOFFSETFROM:+1100
TZOFFSETTO:+1000
TZNAME:AEST
DTSTART:20250405T160000
END:STANDARD
BEGIN:DAYLIGHT
TZOFFSETFROM:+1000
TZOFFSETTO:+1100
TZNAME:AEDT
DTSTART:20251004T160000
END:DAYLIGHT
BEGIN:STANDARD
TZOFFSETFROM:+1100
TZOFFSETTO:+1000
TZNAME:AEST
DTSTART:20260404T160000
END:STANDARD
BEGIN:DAYLIGHT
TZOFFSETFROM:+1000
TZOFFSETTO:+1100
TZNAME:AEDT
DTSTART:20261003T160000
END:DAYLIGHT
BEGIN:STANDARD
TZOFFSETFROM:+1100
TZOFFSETTO:+1000
TZNAME:AEST
DTSTART:20270403T160000
END:STANDARD
BEGIN:DAYLIGHT
TZOFFSETFROM:+1000
TZOFFSETTO:+1100
TZNAME:AEDT
DTSTART:20271002T160000
END:DAYLIGHT
END:VTIMEZONE
BEGIN:VEVENT
DTSTART;VALUE=DATE:20260201
DTEND;VALUE=DATE:20260202
DTSTAMP:20260422T024738
CREATED:20251208T004100Z
LAST-MODIFIED:20251208T004100Z
UID:10000207-1769904000-1769990399@www.oldtreasurybuilding.org.au
SUMMARY:Marfan Awareness Month 2026
DESCRIPTION:Connective Tissue Disorders Network Australia (CTDNA) support\, advocate and bring awareness to people living with a heritable connective tissue disorder (HTCDs).\nHCTDs are a group of genetic conditions affecting the body’s connective tissues. Connective tissue provides the support and structure to other tissue and organs in the body. \nMarfan syndrome is a rare genetic disorder that affects 1 in 5000 people and can be life threatening if undiagnosed. One of the areas that Marfan Syndrome affects is the aorta in the heart. The aorta is weakened and can lead to a rupture causing death.\nFebruary is Marfan Awareness Month. This month city monuments will light up red. \nOld Treasury Building will be lit in red for this event from sunrise to sunset.
URL:https://www.oldtreasurybuilding.org.au/event/marfan-awareness-month-2026/
LOCATION:Old Treasury Building\, 20 Spring Street\, East Melbourne\, VIC\, 3002\, Australia
CATEGORIES:Lighting
ORGANIZER;CN="Old Treasury Building":MAILTO:bookings@otb.org.au
GEO:-37.8134372;144.9742711
X-APPLE-STRUCTURED-LOCATION;VALUE=URI;X-ADDRESS=Old Treasury Building 20 Spring Street East Melbourne VIC 3002 Australia;X-APPLE-RADIUS=500;X-TITLE=20 Spring Street:geo:144.9742711,-37.8134372
END:VEVENT
BEGIN:VEVENT
DTSTART;VALUE=DATE:20260219
DTEND;VALUE=DATE:20260220
DTSTAMP:20260422T024738
CREATED:20251208T004535Z
LAST-MODIFIED:20251208T004535Z
UID:10000208-1771459200-1771545599@www.oldtreasurybuilding.org.au
SUMMARY:World Cholangiocarcinoma Day
DESCRIPTION:Light Australia Green (LAGi) is an ongoing\, year-round initiative that includes a series of events\, culminating in World Cholangiocarcinoma Day\, held on the third Thursday of February each year. \nLight Australia Green is an effort to unite people nationwide around a common goal:\nA comprehensive annual campaign of green-themed events\, symposiums\, and innovative initiatives dedicated to raising awareness and driving engagement in bile health and bile-related cancer response strategies. \nOld Treasury Building will be lit in green for this event from sunrise to sunset.
URL:https://www.oldtreasurybuilding.org.au/event/world-cholangiocarcinoma-day/
LOCATION:Old Treasury Building\, 20 Spring Street\, East Melbourne\, VIC\, 3002\, Australia
CATEGORIES:Lighting
ORGANIZER;CN="Old Treasury Building":MAILTO:bookings@otb.org.au
GEO:-37.8134372;144.9742711
X-APPLE-STRUCTURED-LOCATION;VALUE=URI;X-ADDRESS=Old Treasury Building 20 Spring Street East Melbourne VIC 3002 Australia;X-APPLE-RADIUS=500;X-TITLE=20 Spring Street:geo:144.9742711,-37.8134372
END:VEVENT
BEGIN:VEVENT
DTSTART;VALUE=DATE:20260228
DTEND;VALUE=DATE:20260301
DTSTAMP:20260422T024738
CREATED:20260216T010726Z
LAST-MODIFIED:20260216T010726Z
UID:10000226-1772236800-1772323199@www.oldtreasurybuilding.org.au
SUMMARY:Rare Disease Day
DESCRIPTION:Rare Disease Day is a globally coordinated movement dedicated to rare diseases\, striving for equity in social opportunities\, healthcare\, and access to diagnosis and therapies for people living with a rare disease. \nSince its creation in 2008\, Rare Disease Day has played a crucial role in building an international rare disease community—multi-disease\, global\, and diverse\, yet united in purpose. \nRare Disease Day is observed every year on 28 February (or 29 February in leap years—the rarest day of the year). It was established and is coordinated by EURORDIS in partnership with over 70 national alliance patient organisations. The day serves as a powerful focal point\, driving advocacy efforts at local\, national\, and international levels. \nOld Treasury Building will be lit in blue\, pink\, green and purple for this event from sunrise to sunset.
URL:https://www.oldtreasurybuilding.org.au/event/rare-disease-day-2/
LOCATION:Old Treasury Building\, 20 Spring Street\, East Melbourne\, VIC\, 3002\, Australia
CATEGORIES:Lighting
ORGANIZER;CN="Old Treasury Building":MAILTO:bookings@otb.org.au
GEO:-37.8134372;144.9742711
X-APPLE-STRUCTURED-LOCATION;VALUE=URI;X-ADDRESS=Old Treasury Building 20 Spring Street East Melbourne VIC 3002 Australia;X-APPLE-RADIUS=500;X-TITLE=20 Spring Street:geo:144.9742711,-37.8134372
END:VEVENT
END:VCALENDAR