BEGIN:VCALENDAR
VERSION:2.0
PRODID:-//Old Treasury Building - ECPv6.15.20//NONSGML v1.0//EN
CALSCALE:GREGORIAN
METHOD:PUBLISH
X-ORIGINAL-URL:https://www.oldtreasurybuilding.org.au
X-WR-CALDESC:Events for Old Treasury Building
REFRESH-INTERVAL;VALUE=DURATION:PT1H
X-Robots-Tag:noindex
X-PUBLISHED-TTL:PT1H
BEGIN:VTIMEZONE
TZID:Australia/Melbourne
BEGIN:STANDARD
TZOFFSETFROM:+1100
TZOFFSETTO:+1000
TZNAME:AEST
DTSTART:20240406T160000
END:STANDARD
BEGIN:DAYLIGHT
TZOFFSETFROM:+1000
TZOFFSETTO:+1100
TZNAME:AEDT
DTSTART:20241005T160000
END:DAYLIGHT
BEGIN:STANDARD
TZOFFSETFROM:+1100
TZOFFSETTO:+1000
TZNAME:AEST
DTSTART:20250405T160000
END:STANDARD
BEGIN:DAYLIGHT
TZOFFSETFROM:+1000
TZOFFSETTO:+1100
TZNAME:AEDT
DTSTART:20251004T160000
END:DAYLIGHT
BEGIN:STANDARD
TZOFFSETFROM:+1100
TZOFFSETTO:+1000
TZNAME:AEST
DTSTART:20260404T160000
END:STANDARD
BEGIN:DAYLIGHT
TZOFFSETFROM:+1000
TZOFFSETTO:+1100
TZNAME:AEDT
DTSTART:20261003T160000
END:DAYLIGHT
END:VTIMEZONE
BEGIN:VEVENT
DTSTART;VALUE=DATE:20251101
DTEND;VALUE=DATE:20251102
DTSTAMP:20260422T075807
CREATED:20250224T222606Z
LAST-MODIFIED:20250224T222606Z
UID:10000168-1761955200-1762041599@www.oldtreasurybuilding.org.au
SUMMARY:World Pancreatic Awareness Month 2025
DESCRIPTION:Today we stand alongside the Australian Pancreatic Cancer Alliance and the World Pancreatic Alliance by turning purple for for beginning of World Pancreatic Awareness Month.\nThey aim to raise awareness and pay tribute to those living with the disease and to honour those who have lost their lives to pancreatic cancer. \nPatients diagnosed early and in time for surgery are more likely to live five years and beyond. Early diagnosis is vital\, so say “Hello\, Pancreas” and don’t ignore the signs. \n#HelloPancreas #LightItPurple \nOld Treasury Building will be lit in purple for this event from sunrise to sunset.
URL:https://www.oldtreasurybuilding.org.au/event/world-pancreatic-awareness-month-2025/
LOCATION:Old Treasury Building\, 20 Spring Street\, East Melbourne\, VIC\, 3002\, Australia
CATEGORIES:Lighting
ORGANIZER;CN="Old Treasury Building":MAILTO:bookings@otb.org.au
GEO:-37.8134372;144.9742711
X-APPLE-STRUCTURED-LOCATION;VALUE=URI;X-ADDRESS=Old Treasury Building 20 Spring Street East Melbourne VIC 3002 Australia;X-APPLE-RADIUS=500;X-TITLE=20 Spring Street:geo:144.9742711,-37.8134372
END:VEVENT
BEGIN:VEVENT
DTSTART;VALUE=DATE:20251108
DTEND;VALUE=DATE:20251109
DTSTAMP:20260422T075807
CREATED:20251009T005401Z
LAST-MODIFIED:20251009T005401Z
UID:10000200-1762560000-1762646399@www.oldtreasurybuilding.org.au
SUMMARY:Shine a Light on Lung Cancer
DESCRIPTION:In Australia\, more than 15\,122 people will be diagnosed with lung cancer this year — that’s 41 every day.\nAlmost 85% will be diagnosed at a late stage\, making it our country’s most devastating cancer. \nEvery November\, Shine a Light on Lung Cancer brings Australians together to raise awareness and funds for life-changing lung cancer research and support. \nOld Treasury Building will be lit in green for this event from sunrise to sunset.
URL:https://www.oldtreasurybuilding.org.au/event/shine-a-light-on-lung-cancer/
LOCATION:Old Treasury Building\, 20 Spring Street\, East Melbourne\, VIC\, 3002\, Australia
CATEGORIES:Lighting
ORGANIZER;CN="Old Treasury Building":MAILTO:bookings@otb.org.au
GEO:-37.8134372;144.9742711
X-APPLE-STRUCTURED-LOCATION;VALUE=URI;X-ADDRESS=Old Treasury Building 20 Spring Street East Melbourne VIC 3002 Australia;X-APPLE-RADIUS=500;X-TITLE=20 Spring Street:geo:144.9742711,-37.8134372
END:VEVENT
BEGIN:VEVENT
DTSTART;VALUE=DATE:20251112
DTEND;VALUE=DATE:20251117
DTSTAMP:20260422T075807
CREATED:20251028T035157Z
LAST-MODIFIED:20251028T035157Z
UID:10000203-1762905600-1763337599@www.oldtreasurybuilding.org.au
SUMMARY:AC/DC’s return to Melbourne!
DESCRIPTION:To celebrate AC/DC’s return to Melbourne on the Power Up Tour this November\, buildings light up red across the city to pay homage to the rock legends. \nOld Treasury Building will be lit in red for this event from sunrise to sunset.
URL:https://www.oldtreasurybuilding.org.au/event/ac-dcs-return-to-melbourne/
LOCATION:Old Treasury Building\, 20 Spring Street\, East Melbourne\, VIC\, 3002\, Australia
CATEGORIES:Lighting
ORGANIZER;CN="Old Treasury Building":MAILTO:bookings@otb.org.au
GEO:-37.8134372;144.9742711
X-APPLE-STRUCTURED-LOCATION;VALUE=URI;X-ADDRESS=Old Treasury Building 20 Spring Street East Melbourne VIC 3002 Australia;X-APPLE-RADIUS=500;X-TITLE=20 Spring Street:geo:144.9742711,-37.8134372
END:VEVENT
BEGIN:VEVENT
DTSTART;VALUE=DATE:20251118
DTEND;VALUE=DATE:20251119
DTSTAMP:20260422T075807
CREATED:20250908T011920Z
LAST-MODIFIED:20250908T021145Z
UID:10000195-1763424000-1763510399@www.oldtreasurybuilding.org.au
SUMMARY:World Day for the Prevention of and Healing from Child Sexual Exploitation\, Abuse\, and Violence 2025
DESCRIPTION:This day is to raise awareness of prevalence and impact\, and is a call to action for governments and the public to focus on preventing child sexual abuse\, supporting healing for survivors\, and ensuring justice. \n#18novworldday #PreventionHealingJustice #EndChildSexualAbuse \nOld Treasury Building will be lit in blue for this event from sunrise to sunset.
URL:https://www.oldtreasurybuilding.org.au/event/world-day-for-the-prevention-of-and-healing-from-child-sexual-exploitation-abuse-and-violence-2025/
LOCATION:Old Treasury Building\, 20 Spring Street\, East Melbourne\, VIC\, 3002\, Australia
CATEGORIES:Lighting
ORGANIZER;CN="Old Treasury Building":MAILTO:bookings@otb.org.au
GEO:-37.8134372;144.9742711
X-APPLE-STRUCTURED-LOCATION;VALUE=URI;X-ADDRESS=Old Treasury Building 20 Spring Street East Melbourne VIC 3002 Australia;X-APPLE-RADIUS=500;X-TITLE=20 Spring Street:geo:144.9742711,-37.8134372
END:VEVENT
BEGIN:VEVENT
DTSTART;VALUE=DATE:20251119
DTEND;VALUE=DATE:20251120
DTSTAMP:20260422T075807
CREATED:20250919T062206Z
LAST-MODIFIED:20250919T062206Z
UID:10000199-1763510400-1763596799@www.oldtreasurybuilding.org.au
SUMMARY:Yellow Day –  the International Stand Up to Bullying Day
DESCRIPTION:Bully Zero is a key actionist driving awareness for Yellow Day –  the International Stand Up to Bullying Day.\nAs part of this day\, a global organisation will be donating $10 for every photo that is shared of yellow day activities with the hashtag #rideoutintimidation. \nWhat is Yellow Day \n\nYellow Day is to show support for International Stand Up to Bullying Day “Ride Out Intimidation”.\nThe day is about showing solidarity\, raising awareness of bullying (in education\, workplaces\, communities)\, and encouraging positive action.\nOne way everyone can participate is by wearing yellow and posting photos on social media (public posts on LinkedIn\, Facebook\, Instagram) with the hashtag #RideOutIntimidation.\nFor every public post\, BRP (Bully Zero’s proud partner)\, will donate to bullying prevention charities around the world.\n\nOld Treasury Building will be lit in yellow for this event from sunrise to sunset.
URL:https://www.oldtreasurybuilding.org.au/event/yellow-day-the-international-stand-up-to-bullying-day/
LOCATION:Old Treasury Building\, 20 Spring Street\, East Melbourne\, VIC\, 3002\, Australia
CATEGORIES:Lighting
ORGANIZER;CN="Old Treasury Building":MAILTO:bookings@otb.org.au
GEO:-37.8134372;144.9742711
X-APPLE-STRUCTURED-LOCATION;VALUE=URI;X-ADDRESS=Old Treasury Building 20 Spring Street East Melbourne VIC 3002 Australia;X-APPLE-RADIUS=500;X-TITLE=20 Spring Street:geo:144.9742711,-37.8134372
END:VEVENT
BEGIN:VEVENT
DTSTART;VALUE=DATE:20251120
DTEND;VALUE=DATE:20251121
DTSTAMP:20260422T075807
CREATED:20250224T222246Z
LAST-MODIFIED:20250224T222246Z
UID:10000167-1763596800-1763683199@www.oldtreasurybuilding.org.au
SUMMARY:World Pancreatic Cancer Day 2025
DESCRIPTION:Today we stand alongside the Australian Pancreatic Cancer Alliance and the World Pancreatic Alliance by turning purple for World Pancreatic Cancer Day along with 126 other landmarks in the country to raise awareness and pay tribute to those living with the disease and to honour those who have lost their lives to pancreatic cancer. \nPatients diagnosed early and in time for surgery are more likely to live five years and beyond. Early diagnosis is vital\, so say “Hello\, Pancreas” and don’t ignore the signs. \n#HelloPancreas #LightItPurple #WorldPancreaticCancerDay #WPCD \nOld Treasury Building will be lit in purple for this event from sunrise to sunset.
URL:https://www.oldtreasurybuilding.org.au/event/world-pancreatic-cancer-day-2025/
LOCATION:Old Treasury Building\, 20 Spring Street\, East Melbourne\, VIC\, 3002\, Australia
CATEGORIES:Lighting
ORGANIZER;CN="Old Treasury Building":MAILTO:bookings@otb.org.au
GEO:-37.8134372;144.9742711
X-APPLE-STRUCTURED-LOCATION;VALUE=URI;X-ADDRESS=Old Treasury Building 20 Spring Street East Melbourne VIC 3002 Australia;X-APPLE-RADIUS=500;X-TITLE=20 Spring Street:geo:144.9742711,-37.8134372
END:VEVENT
END:VCALENDAR